BEGIN:VCALENDAR
VERSION:2.0
PRODID:-//Gold Country K9 Services - ECPv6.15.20//NONSGML v1.0//EN
CALSCALE:GREGORIAN
METHOD:PUBLISH
X-WR-CALNAME:Gold Country K9 Services
X-ORIGINAL-URL:https://www.goldcountryk9.com
X-WR-CALDESC:Events for Gold Country K9 Services
REFRESH-INTERVAL;VALUE=DURATION:PT1H
X-Robots-Tag:noindex
X-PUBLISHED-TTL:PT1H
BEGIN:VTIMEZONE
TZID:America/Los_Angeles
BEGIN:DAYLIGHT
TZOFFSETFROM:-0800
TZOFFSETTO:-0700
TZNAME:PDT
DTSTART:20250309T100000
END:DAYLIGHT
BEGIN:STANDARD
TZOFFSETFROM:-0700
TZOFFSETTO:-0800
TZNAME:PST
DTSTART:20251102T090000
END:STANDARD
BEGIN:DAYLIGHT
TZOFFSETFROM:-0800
TZOFFSETTO:-0700
TZNAME:PDT
DTSTART:20260308T100000
END:DAYLIGHT
BEGIN:STANDARD
TZOFFSETFROM:-0700
TZOFFSETTO:-0800
TZNAME:PST
DTSTART:20261101T090000
END:STANDARD
BEGIN:DAYLIGHT
TZOFFSETFROM:-0800
TZOFFSETTO:-0700
TZNAME:PDT
DTSTART:20270314T100000
END:DAYLIGHT
BEGIN:STANDARD
TZOFFSETFROM:-0700
TZOFFSETTO:-0800
TZNAME:PST
DTSTART:20271107T090000
END:STANDARD
END:VTIMEZONE
BEGIN:VEVENT
DTSTART;TZID=America/Los_Angeles:20260826T120000
DTEND;TZID=America/Los_Angeles:20260826T123000
DTSTAMP:20260423T153826
CREATED:20260113T033122Z
LAST-MODIFIED:20260113T033122Z
UID:10004930-1787745600-1787747400@www.goldcountryk9.com
SUMMARY:CWC: Online Q & A
DESCRIPTION:Communicate with Clarity Online Q&A \nWe are online in our Community to answer any questions you may have\, help with training plans\, give feedback. This time is yours for both our Aspiring Trainers and our Dog Owners who are striving for excellence in their training. We will stay on as long as needed to answer questions\, but you need to be logged on by 12:30 to guarantee your spot! \nSignups are in the Gold Country K9 Academy online community under “Meet Ups”
URL:https://www.goldcountryk9.com/event/cwc-online-q-a-5/2026-08-26/
LOCATION:Gold Country Pet Resort\, 6355 State Hwy 104\,  Ione\, CA\, 95640\, United States
CATEGORIES:Classes
GEO:38.336067;-120.902571
X-APPLE-STRUCTURED-LOCATION;VALUE=URI;X-ADDRESS=Gold Country Pet Resort 6355 State Hwy 104  Ione CA 95640 United States;X-APPLE-RADIUS=500;X-TITLE=6355 State Hwy 104:geo:-120.902571,38.336067
END:VEVENT
BEGIN:VEVENT
DTSTART;TZID=America/Los_Angeles:20260828T180000
DTEND;TZID=America/Los_Angeles:20260828T200000
DTSTAMP:20260423T153826
CREATED:20260113T043425Z
LAST-MODIFIED:20260113T044456Z
UID:10005252-1787940000-1787947200@www.goldcountryk9.com
SUMMARY:Schutzhund/ IPO/ IGP
DESCRIPTION:IGP (formerly Schutzhund/ IPO)\nThis class is for those wanting to do the sport. We do obedience followed by protection work. We focus on putting the foundation in place methodically and with excellent technique.  It is not required that you take our focused obedience program\, but it is certainly helpful if you have an obedience membership for the shared language. That will give you an understanding of our methodology and why we do things the way we do them. Our new  competition field is in\, and we expect to host trials 2-3 times per year.  \nThis class is offered through Gold Country Working Dog Club and you will pay AT THE FIELD (not ahead of time). Please do sign up though\, so that we know you are coming. Also\, if an emergency happens\, we can notify you! If you are not already a member of the Club\, we encourage you to join the IGP Club as well!  \n  \nCost: $60.00  Obedience and Protection\nSchedule Appointment
URL:https://www.goldcountryk9.com/event/schutzhund-ipo-igp-3/2026-08-28/
LOCATION:Gold Country Pet Resort\, 6355 State Hwy 104\,  Ione\, CA\, 95640\, United States
CATEGORIES:IPO/RingSport Event
GEO:38.336067;-120.902571
X-APPLE-STRUCTURED-LOCATION;VALUE=URI;X-ADDRESS=Gold Country Pet Resort 6355 State Hwy 104  Ione CA 95640 United States;X-APPLE-RADIUS=500;X-TITLE=6355 State Hwy 104:geo:-120.902571,38.336067
END:VEVENT
END:VCALENDAR