BEGIN:VCALENDAR
VERSION:2.0
PRODID:-//Gold Country K9 Services - ECPv6.15.20//NONSGML v1.0//EN
CALSCALE:GREGORIAN
METHOD:PUBLISH
X-WR-CALNAME:Gold Country K9 Services
X-ORIGINAL-URL:https://www.goldcountryk9.com
X-WR-CALDESC:Events for Gold Country K9 Services
REFRESH-INTERVAL;VALUE=DURATION:PT1H
X-Robots-Tag:noindex
X-PUBLISHED-TTL:PT1H
BEGIN:VTIMEZONE
TZID:America/Los_Angeles
BEGIN:DAYLIGHT
TZOFFSETFROM:-0800
TZOFFSETTO:-0700
TZNAME:PDT
DTSTART:20250309T100000
END:DAYLIGHT
BEGIN:STANDARD
TZOFFSETFROM:-0700
TZOFFSETTO:-0800
TZNAME:PST
DTSTART:20251102T090000
END:STANDARD
BEGIN:DAYLIGHT
TZOFFSETFROM:-0800
TZOFFSETTO:-0700
TZNAME:PDT
DTSTART:20260308T100000
END:DAYLIGHT
BEGIN:STANDARD
TZOFFSETFROM:-0700
TZOFFSETTO:-0800
TZNAME:PST
DTSTART:20261101T090000
END:STANDARD
BEGIN:DAYLIGHT
TZOFFSETFROM:-0800
TZOFFSETTO:-0700
TZNAME:PDT
DTSTART:20270314T100000
END:DAYLIGHT
BEGIN:STANDARD
TZOFFSETFROM:-0700
TZOFFSETTO:-0800
TZNAME:PST
DTSTART:20271107T090000
END:STANDARD
END:VTIMEZONE
BEGIN:VEVENT
DTSTART;TZID=America/Los_Angeles:20260617T180000
DTEND;TZID=America/Los_Angeles:20260617T190000
DTSTAMP:20260423T115349
CREATED:20260113T032003Z
LAST-MODIFIED:20260113T033028Z
UID:10004693-1781719200-1781722800@www.goldcountryk9.com
SUMMARY:CWC: Bi-Weekly Online Discussion
DESCRIPTION:Communicate with Clarity Bi-weekly Online Discussion\nTwice per month we meet online to discuss on a deeper level all of the concepts involved in our Communicate with Clarity program. While we lay everything out in the coursework\, we know that the application of the material can only be understood as people gain experience. The purpose of continuing our online discussions is to explore on a deeper level the material that is in the coursework and have a chance to ask questions\, submit video’s and have an interactive community conversation as people begin seeing the concepts come to life. As one of my favorite trainers says “The Eyes Cannot See What the Brain Cannot Understand”. This is so profoundly true. It is in these discussions\, where I can expose your brain to concepts so that when you go back to working with your dogs\, you can more fully see the things we teach in class. \nRSVP online. Gold Country K9 Academy Community\, under the “Meet Ups” section. Not a Member? Consider Joining Us!
URL:https://www.goldcountryk9.com/event/cwc-bi-weekly-online-discussion-5/2026-06-17/
LOCATION:Gold Country Pet Resort\, 6355 State Hwy 104\,  Ione\, CA\, 95640\, United States
CATEGORIES:Classes,group class
GEO:38.336067;-120.902571
X-APPLE-STRUCTURED-LOCATION;VALUE=URI;X-ADDRESS=Gold Country Pet Resort 6355 State Hwy 104  Ione CA 95640 United States;X-APPLE-RADIUS=500;X-TITLE=6355 State Hwy 104:geo:-120.902571,38.336067
END:VEVENT
BEGIN:VEVENT
DTSTART;TZID=America/Los_Angeles:20260618T160000
DTEND;TZID=America/Los_Angeles:20260621T210000
DTSTAMP:20260423T115349
CREATED:20260113T045950Z
LAST-MODIFIED:20260113T051412Z
UID:10005711-1781798400-1782075600@www.goldcountryk9.com
SUMMARY:NADD Dock Diving Event
DESCRIPTION:🌊 Dock Diving at Gold Country Pet Resort\nCome make a splash with us! Whether you’re a seasoned dock diving pro or just curious about the sport\, our dock diving events are the perfect way to spend a fun\, relaxed weekend with your pup. Nestled in the scenic hills of Ione\, CA\, our facility offers a beautiful and peaceful setting for both newcomers and veteran jumpers to enjoy. \n🎉 June Jump!\nJoin us for our June Jump\, sanctioned by North America Diving Dogs (NADD). Titles earned at our events are recognized by the American Kennel Club (AKC)—great news for those chasing championship points or just enjoying the journey.  We will also have classes for both Air Retrieve and Hydrodash available on Thursday prior to the specialty. If your dog is jumping confidently off the dock and you want to try Hydrodash or Air Retrieve\, sign up for a class on Thursday before the event and then try your paw at it on Thursday evening after the classes are completed. \n📅 Ready to sign up?\nYou can register for this event directly on the NADD website. Your dog will need a NADD Membership Number\, which is a one-time fee\, and after that you’re good to go for all NADD events nationwide! \n\n🐾 New to Dock Diving?\nNo problem! We love helping dogs take their first leap. If your pup hasn’t tried it yet\, sign up for one of our dock diving classes here. We’ll help you build confidence and have a blast doing it! \n\n📋 Important Notes on Registration\nDock diving is one of the few dog sports that doesn’t require upfront payment\, but that also means it relies on everyone being mindful of their commitments. Here’s the scoop: \n\nNo Show Policy: You can adjust your entry anytime before entries close (usually two weeks before the event). After that\, you’re expected to attend and pay. One no-show won’t break anything—but three strikes\, and you lose pre-registration privileges.\nStuff happens! Illnesses and emergencies are understandable—just communicate with a vet or doctor note and you’ll be good to go.\n\n\n💦 Our Jump Card System\nTo make things easier\, we offer Jump Cards\, a unique perk at our facility (thanks to NADD approval). Here’s how it works: \n\nYou’ll sign up and pay in advance via SignUpGenius.\nThese links will be sent out the week of the event…a few days prior.\nYou’ll know your approximate jump times before you arrive.\nNo waiting around all day—you can jump\, hang out\, and even make it to Ione Sweets for a well-earned ice cream before the heat kicks in!\n\nWe love when folks stay all day to cheer each other on\, but we also know that California summers aren’t always kind. This system gives you the flexibility to make the day work best for you and your dog. \n\n🏞️ About Our Facility\nOur dock and pool are tucked into the middle of 135 quiet\, beautiful acres—a true hidden gem! Once you make it down our half-mile gravel/dirt road\, you’ll want to settle in and enjoy the day. Here’s what to bring: \n\nCanopies\, chairs\, lots of water (for you and your pup!)\nAluminet or shade cloth to help with summer heat\nSnacks\, or check out the local spots in nearby Ione (2 miles north)\n\n🍕 Local eats include: \n\nTwo pizza joints\nSubway\nChinese & Mexican food\nClark’s Market with a great deli\nAnd of course\, Ione Sweets—our town’s favorite ice cream shop!\n\n🏨 Need a place to stay?\nCheck out nearby hotels in Plymouth or Jackson. Jackson/Martell offers grocery stores\, fast food\, and anything else you might need during your weekend with us. \n\nWhether you’re diving in for fun or chasing your next title\, we can’t wait to welcome you to the dock! 🐶💦 \n 
URL:https://www.goldcountryk9.com/event/nadd-dock-diving-event-8/
LOCATION:CA
CATEGORIES:Dock Diving,Dock Diving Events
END:VEVENT
BEGIN:VEVENT
DTSTART;TZID=America/Los_Angeles:20260619T180000
DTEND;TZID=America/Los_Angeles:20260619T200000
DTSTAMP:20260423T115349
CREATED:20260113T043425Z
LAST-MODIFIED:20260113T044456Z
UID:10005232-1781892000-1781899200@www.goldcountryk9.com
SUMMARY:Schutzhund/ IPO/ IGP
DESCRIPTION:IGP (formerly Schutzhund/ IPO)\nThis class is for those wanting to do the sport. We do obedience followed by protection work. We focus on putting the foundation in place methodically and with excellent technique.  It is not required that you take our focused obedience program\, but it is certainly helpful if you have an obedience membership for the shared language. That will give you an understanding of our methodology and why we do things the way we do them. Our new  competition field is in\, and we expect to host trials 2-3 times per year.  \nThis class is offered through Gold Country Working Dog Club and you will pay AT THE FIELD (not ahead of time). Please do sign up though\, so that we know you are coming. Also\, if an emergency happens\, we can notify you! If you are not already a member of the Club\, we encourage you to join the IGP Club as well!  \n  \nCost: $60.00  Obedience and Protection\nSchedule Appointment
URL:https://www.goldcountryk9.com/event/schutzhund-ipo-igp-3/2026-06-19/
LOCATION:Gold Country Pet Resort\, 6355 State Hwy 104\,  Ione\, CA\, 95640\, United States
CATEGORIES:IPO/RingSport Event
GEO:38.336067;-120.902571
X-APPLE-STRUCTURED-LOCATION;VALUE=URI;X-ADDRESS=Gold Country Pet Resort 6355 State Hwy 104  Ione CA 95640 United States;X-APPLE-RADIUS=500;X-TITLE=6355 State Hwy 104:geo:-120.902571,38.336067
END:VEVENT
END:VCALENDAR