BEGIN:VCALENDAR
VERSION:2.0
PRODID:-//Gold Country K9 Services - ECPv6.15.20//NONSGML v1.0//EN
CALSCALE:GREGORIAN
METHOD:PUBLISH
X-ORIGINAL-URL:https://www.goldcountryk9.com
X-WR-CALDESC:Events for Gold Country K9 Services
REFRESH-INTERVAL;VALUE=DURATION:PT1H
X-Robots-Tag:noindex
X-PUBLISHED-TTL:PT1H
BEGIN:VTIMEZONE
TZID:America/Los_Angeles
BEGIN:DAYLIGHT
TZOFFSETFROM:-0800
TZOFFSETTO:-0700
TZNAME:PDT
DTSTART:20250309T100000
END:DAYLIGHT
BEGIN:STANDARD
TZOFFSETFROM:-0700
TZOFFSETTO:-0800
TZNAME:PST
DTSTART:20251102T090000
END:STANDARD
BEGIN:DAYLIGHT
TZOFFSETFROM:-0800
TZOFFSETTO:-0700
TZNAME:PDT
DTSTART:20260308T100000
END:DAYLIGHT
BEGIN:STANDARD
TZOFFSETFROM:-0700
TZOFFSETTO:-0800
TZNAME:PST
DTSTART:20261101T090000
END:STANDARD
BEGIN:DAYLIGHT
TZOFFSETFROM:-0800
TZOFFSETTO:-0700
TZNAME:PDT
DTSTART:20270314T100000
END:DAYLIGHT
BEGIN:STANDARD
TZOFFSETFROM:-0700
TZOFFSETTO:-0800
TZNAME:PST
DTSTART:20271107T090000
END:STANDARD
END:VTIMEZONE
BEGIN:VEVENT
DTSTART;VALUE=DATE:20260130
DTEND;VALUE=DATE:20260202
DTSTAMP:20260423T121349
CREATED:20260113T035827Z
LAST-MODIFIED:20260113T040142Z
UID:10005046-1769731200-1769990399@www.goldcountryk9.com
SUMMARY:Barn Hunt Trial January 30-Feb1  Location: Gold Country Pet Resort
DESCRIPTION:Gold Country Pet Resort is proud to hose a Barn Hunt Trial on the last weekend of January! Registration info at www.barnhunt.com
URL:https://www.goldcountryk9.com/event/barn-hunt-trial-january-30-feb1-location-gold-country-pet-resort/
LOCATION:Gold Country Pet Resort\, 6355 State Hwy 104\,  Ione\, CA\, 95640\, United States
CATEGORIES:Barn Hunt Events
GEO:38.336067;-120.902571
X-APPLE-STRUCTURED-LOCATION;VALUE=URI;X-ADDRESS=Gold Country Pet Resort 6355 State Hwy 104  Ione CA 95640 United States;X-APPLE-RADIUS=500;X-TITLE=6355 State Hwy 104:geo:-120.902571,38.336067
END:VEVENT
END:VCALENDAR